BEGIN:VCALENDAR
VERSION:2.0
PRODID:-//The Official Website of Lac Courte Oreilles - ECPv6.15.18//NONSGML v1.0//EN
CALSCALE:GREGORIAN
METHOD:PUBLISH
X-WR-CALNAME:The Official Website of Lac Courte Oreilles
X-ORIGINAL-URL:https://lco-nsn.gov
X-WR-CALDESC:Events for The Official Website of Lac Courte Oreilles
REFRESH-INTERVAL;VALUE=DURATION:PT1H
X-Robots-Tag:noindex
X-PUBLISHED-TTL:PT1H
BEGIN:VTIMEZONE
TZID:America/Chicago
BEGIN:DAYLIGHT
TZOFFSETFROM:-0600
TZOFFSETTO:-0500
TZNAME:CDT
DTSTART:20240310T080000
END:DAYLIGHT
BEGIN:STANDARD
TZOFFSETFROM:-0500
TZOFFSETTO:-0600
TZNAME:CST
DTSTART:20241103T070000
END:STANDARD
BEGIN:DAYLIGHT
TZOFFSETFROM:-0600
TZOFFSETTO:-0500
TZNAME:CDT
DTSTART:20250309T080000
END:DAYLIGHT
BEGIN:STANDARD
TZOFFSETFROM:-0500
TZOFFSETTO:-0600
TZNAME:CST
DTSTART:20251102T070000
END:STANDARD
BEGIN:DAYLIGHT
TZOFFSETFROM:-0600
TZOFFSETTO:-0500
TZNAME:CDT
DTSTART:20260308T080000
END:DAYLIGHT
BEGIN:STANDARD
TZOFFSETFROM:-0500
TZOFFSETTO:-0600
TZNAME:CST
DTSTART:20261101T070000
END:STANDARD
END:VTIMEZONE
BEGIN:VEVENT
DTSTART;TZID=America/Chicago:20250311T110000
DTEND;TZID=America/Chicago:20250311T130000
DTSTAMP:20260422T082028
CREATED:20250311T191639Z
LAST-MODIFIED:20260311T200559Z
UID:11306-1741690800-1741698000@lco-nsn.gov
SUMMARY:Tapping & Tasting White Birch  |  Food & Medicine
DESCRIPTION:Tuesday\, March 11  |  4:00pm – 6:00pm
URL:https://lco-nsn.gov/event/tapping-tasting-white-birch/
LOCATION:Lac Courte Oreilles Ojibwe University\, 13466 W. Trepania Road\, Hayward\, WI\, 54843\, United States
CATEGORIES:Education
END:VEVENT
END:VCALENDAR