BEGIN:VCALENDAR
VERSION:2.0
PRODID:-//The Official Website of Lac Courte Oreilles - ECPv6.15.18//NONSGML v1.0//EN
CALSCALE:GREGORIAN
METHOD:PUBLISH
X-WR-CALNAME:The Official Website of Lac Courte Oreilles
X-ORIGINAL-URL:https://lco-nsn.gov
X-WR-CALDESC:Events for The Official Website of Lac Courte Oreilles
REFRESH-INTERVAL;VALUE=DURATION:PT1H
X-Robots-Tag:noindex
X-PUBLISHED-TTL:PT1H
BEGIN:VTIMEZONE
TZID:America/Chicago
BEGIN:DAYLIGHT
TZOFFSETFROM:-0600
TZOFFSETTO:-0500
TZNAME:CDT
DTSTART:20250309T080000
END:DAYLIGHT
BEGIN:STANDARD
TZOFFSETFROM:-0500
TZOFFSETTO:-0600
TZNAME:CST
DTSTART:20251102T070000
END:STANDARD
BEGIN:DAYLIGHT
TZOFFSETFROM:-0600
TZOFFSETTO:-0500
TZNAME:CDT
DTSTART:20260308T080000
END:DAYLIGHT
BEGIN:STANDARD
TZOFFSETFROM:-0500
TZOFFSETTO:-0600
TZNAME:CST
DTSTART:20261101T070000
END:STANDARD
BEGIN:DAYLIGHT
TZOFFSETFROM:-0600
TZOFFSETTO:-0500
TZNAME:CDT
DTSTART:20270314T080000
END:DAYLIGHT
BEGIN:STANDARD
TZOFFSETFROM:-0500
TZOFFSETTO:-0600
TZNAME:CST
DTSTART:20271107T070000
END:STANDARD
END:VTIMEZONE
BEGIN:VEVENT
DTSTART;VALUE=DATE:20260605
DTEND;VALUE=DATE:20260606
DTSTAMP:20260422T114812
CREATED:20260421T171929Z
LAST-MODIFIED:20260421T172338Z
UID:10003878-1780617600-1780703999@lco-nsn.gov
SUMMARY:SAVE THE DATE!
DESCRIPTION:2026 Honor the Earth Homecoming
URL:https://lco-nsn.gov/event/save-the-date/2026-06-05/
LOCATION:Honor The Earth Powwow Grounds\, 8575 N Round Lake School Road\, Hayward\, WI\, 54843\, United States
CATEGORIES:Honor The Earth Homecoming
ATTACH;FMTTYPE=image/jpeg:https://lco-nsn.gov/wp-content/uploads/hte2026-STD.jpg
END:VEVENT
END:VCALENDAR