BEGIN:VCALENDAR
VERSION:2.0
PRODID:-//The Official Website of Lac Courte Oreilles - ECPv6.15.18//NONSGML v1.0//EN
CALSCALE:GREGORIAN
METHOD:PUBLISH
X-WR-CALNAME:The Official Website of Lac Courte Oreilles
X-ORIGINAL-URL:https://lco-nsn.gov
X-WR-CALDESC:Events for The Official Website of Lac Courte Oreilles
REFRESH-INTERVAL;VALUE=DURATION:PT1H
X-Robots-Tag:noindex
X-PUBLISHED-TTL:PT1H
BEGIN:VTIMEZONE
TZID:America/Chicago
BEGIN:DAYLIGHT
TZOFFSETFROM:-0600
TZOFFSETTO:-0500
TZNAME:CDT
DTSTART:20250309T080000
END:DAYLIGHT
BEGIN:STANDARD
TZOFFSETFROM:-0500
TZOFFSETTO:-0600
TZNAME:CST
DTSTART:20251102T070000
END:STANDARD
BEGIN:DAYLIGHT
TZOFFSETFROM:-0600
TZOFFSETTO:-0500
TZNAME:CDT
DTSTART:20260308T080000
END:DAYLIGHT
BEGIN:STANDARD
TZOFFSETFROM:-0500
TZOFFSETTO:-0600
TZNAME:CST
DTSTART:20261101T070000
END:STANDARD
BEGIN:DAYLIGHT
TZOFFSETFROM:-0600
TZOFFSETTO:-0500
TZNAME:CDT
DTSTART:20270314T080000
END:DAYLIGHT
BEGIN:STANDARD
TZOFFSETFROM:-0500
TZOFFSETTO:-0600
TZNAME:CST
DTSTART:20271107T070000
END:STANDARD
END:VTIMEZONE
BEGIN:VEVENT
DTSTART;TZID=America/Chicago:20260422T110000
DTEND;TZID=America/Chicago:20260422T130000
DTSTAMP:20260421T161825
CREATED:20260421T141620Z
LAST-MODIFIED:20260421T141620Z
UID:36074-1776855600-1776862800@lco-nsn.gov
SUMMARY:Project Venture Fundraiser Event
DESCRIPTION:Wednesday\, April 22\, 2026  |  11:00am – until food is gone @ LCO Tribal Office Peter Larson Room\nPulled Pork Burrito – $10\nToppings on side: lettuce\, cheese\, sour cream\, salsa\, and BBQ sauce \nPlease email Gina Krizan at gkrizan@lcohc.com or text 715-558-0203 to preorder – Delivery available!
URL:https://lco-nsn.gov/event/project-venture-fundraiser-event/
LOCATION:LCO Tribal Administration Building\, 13394 W Trepania Road\, Hayward\, WI\, 54843\, United States
CATEGORIES:Fundraisers
ATTACH;FMTTYPE=image/jpeg:https://lco-nsn.gov/wp-content/uploads/FundraiserProjectVenture.jpg
END:VEVENT
END:VCALENDAR